BEGIN:VCALENDAR
VERSION:2.0
PRODID:-//Oberwielenbach.Info//NONSGML kigkonsult.se iCalcreator 2.30.10//
CALSCALE:GREGORIAN
METHOD:PUBLISH
UID:130e992b-dba0-481f-9cf7-def52e8a647f
X-WR-CALNAME:iCagenda
X-WR-CALDESC:Event Management Extension for Joomla!
X-WR-RELCALID:3E26604A-50F4-4449-8B3E-E4F4932D05B5
X-WR-TIMEZONE:Europe/Berlin
BEGIN:VTIMEZONE
TZID:Europe/Berlin
BEGIN:STANDARD
TZNAME:CET
DTSTART:20161030T030000
TZOFFSETFROM:+0200
TZOFFSETTO:+0100
RDATE:20171029T030000
END:STANDARD
BEGIN:DAYLIGHT
TZNAME:CEST
DTSTART:20170326T020000
TZOFFSETFROM:+0100
TZOFFSETTO:+0200
RDATE:20180325T020000
END:DAYLIGHT
END:VTIMEZONE
BEGIN:VEVENT
UID:6c550b1a-ce14-4d7f-bf93-090e881111e1
DTSTAMP:20260421T010726Z
CATEGORIES:Pfarrei
CLASS:PUBLIC
DESCRIPTION;ALTREP="CID:<FFFF__=0ABBE548DFE235B58f9e8a93d@coffeebean.com>":
 Um 8:30 Uhr feierlicher Gottesdienst in der Pfarrkirche von Oberwielenbach
 .
DTSTART:20170409T063000Z
DTEND:20170409T063000Z
GEO:00;0
LOCATION:
ORGANIZER:
SEQUENCE:1
SUMMARY:Palmsonntag
TRANSP:OPAQUE
URL:https://prov.oberwielenbach.info/index.php/termine/58-palmsonntag/2017-
 04-09-08-30
END:VEVENT
END:VCALENDAR
