BEGIN:VCALENDAR
VERSION:2.0
PRODID:-//Oberwielenbach.Info//NONSGML kigkonsult.se iCalcreator 2.30.10//
CALSCALE:GREGORIAN
METHOD:PUBLISH
UID:2ac157d4-719a-4eb2-b208-5263bdfbd00f
X-WR-CALNAME:iCagenda
X-WR-CALDESC:Event Management Extension for Joomla!
X-WR-RELCALID:3E26604A-50F4-4449-8B3E-E4F4932D05B5
X-WR-TIMEZONE:Europe/Berlin
BEGIN:VTIMEZONE
TZID:Europe/Berlin
BEGIN:STANDARD
TZNAME:CET
DTSTART:20221030T030000
TZOFFSETFROM:+0200
TZOFFSETTO:+0100
RDATE:20231029T030000
RDATE:20241027T030000
END:STANDARD
BEGIN:DAYLIGHT
TZNAME:CEST
DTSTART:20230326T020000
TZOFFSETFROM:+0100
TZOFFSETTO:+0200
RDATE:20240331T020000
RDATE:20250330T020000
END:DAYLIGHT
END:VTIMEZONE
BEGIN:VEVENT
UID:5b9dfa04-15ad-40bf-88cb-22de72610d3f
DTSTAMP:20260421T224723Z
CATEGORIES:Allgemein
CLASS:PUBLIC
DESCRIPTION;ALTREP="CID:<FFFF__=0ABBE548DFE235B58f9e8a93d@coffeebean.com>":
 Strauchschnittsammlung in Oberwielenbach an den üblichen Sammelplätzen.
DTSTART:20231013T220000Z
DTEND:20231014T220000Z
GEO:00;0
LOCATION:
ORGANIZER:
SEQUENCE:1
SUMMARY:Strauchschnittsammlung
TRANSP:OPAQUE
URL:https://prov.oberwielenbach.info/index.php/termine/353-dorfsaeuberung-1
 6
END:VEVENT
END:VCALENDAR
