BEGIN:VCALENDAR
VERSION:2.0
PRODID:-//Oberwielenbach.Info//NONSGML kigkonsult.se iCalcreator 2.30.10//
CALSCALE:GREGORIAN
METHOD:PUBLISH
UID:058d604b-f210-4b06-9f28-e6130424d70d
X-WR-CALNAME:iCagenda
X-WR-CALDESC:Event Management Extension for Joomla!
X-WR-RELCALID:3E26604A-50F4-4449-8B3E-E4F4932D05B5
X-WR-TIMEZONE:Europe/Berlin
BEGIN:VTIMEZONE
TZID:Europe/Berlin
BEGIN:STANDARD
TZNAME:CET
DTSTART:20151025T030000
TZOFFSETFROM:+0200
TZOFFSETTO:+0100
RDATE:20161030T030000
RDATE:20171029T030000
END:STANDARD
BEGIN:DAYLIGHT
TZNAME:CEST
DTSTART:20160327T020000
TZOFFSETFROM:+0100
TZOFFSETTO:+0200
RDATE:20170326T020000
END:DAYLIGHT
END:VTIMEZONE
BEGIN:VEVENT
UID:e309340a-0ab1-4858-a13b-d8a5bae30734
DTSTAMP:20260421T014339Z
CATEGORIES:Feuerwehr
CLASS:PUBLIC
DESCRIPTION;ALTREP="CID:<FFFF__=0ABBE548DFE235B58f9e8a93d@coffeebean.com>":
 'Kirschta' in Oberwielenbach: Am Sonntag um 8:30 Uhr Gottesdienst in der P
 farrkirche von Oberwielenbach. Anschlie&szlig\;end Festbetrieb auf dem Fes
 tplatz beim Vereinshaus.&nbsp\;
DTSTART:20160723T220000Z
DTEND:20160723T220000Z
GEO:00;0
LOCATION:
ORGANIZER:
SEQUENCE:1
SUMMARY:Kirchtag
TRANSP:OPAQUE
URL:https://prov.oberwielenbach.info/index.php/termine/32-kirchtag/2016-07-
 24-00-00
END:VEVENT
END:VCALENDAR
