BEGIN:VCALENDAR
VERSION:2.0
PRODID:-//Oberwielenbach.Info//NONSGML kigkonsult.se iCalcreator 2.30.10//
CALSCALE:GREGORIAN
METHOD:PUBLISH
UID:6af1f557-f1ea-40a0-823b-df6d08c2e0b2
X-WR-CALNAME:iCagenda
X-WR-CALDESC:Event Management Extension for Joomla!
X-WR-RELCALID:3E26604A-50F4-4449-8B3E-E4F4932D05B5
X-WR-TIMEZONE:Europe/Berlin
BEGIN:VTIMEZONE
TZID:Europe/Berlin
BEGIN:STANDARD
TZNAME:CET
DTSTART:20181028T030000
TZOFFSETFROM:+0200
TZOFFSETTO:+0100
RDATE:20191027T030000
RDATE:20201025T030000
END:STANDARD
BEGIN:DAYLIGHT
TZNAME:CEST
DTSTART:20190331T020000
TZOFFSETFROM:+0100
TZOFFSETTO:+0200
RDATE:20200329T020000
RDATE:20210328T020000
END:DAYLIGHT
END:VTIMEZONE
BEGIN:VEVENT
UID:7e25c7f8-d23d-4970-bad3-f1bddf3e05fa
DTSTAMP:20260421T130518Z
CATEGORIES:Allgemein
CLASS:PUBLIC
DESCRIPTION;ALTREP="CID:<FFFF__=0ABBE548DFE235B58f9e8a93d@coffeebean.com>":
 Strauchschnittsammlung im Gemeindegebiet von Percha an den üblichen Sammel
 plätzen.
DTSTART:20191018T220000Z
DTEND:20191019T220000Z
GEO:00;0
LOCATION:
ORGANIZER:
SEQUENCE:1
SUMMARY:Strauchschnittsammlung
TRANSP:OPAQUE
URL:https://prov.oberwielenbach.info/index.php/termine/243-dorfsaeuberung-1
 1
END:VEVENT
END:VCALENDAR
