BEGIN:VCALENDAR
VERSION:2.0
PRODID:-//Oberwielenbach.Info//NONSGML kigkonsult.se iCalcreator 2.30.10//
CALSCALE:GREGORIAN
METHOD:PUBLISH
UID:f8c4e307-58e7-4d56-a7fe-7343f48245c8
X-WR-CALNAME:iCagenda
X-WR-CALDESC:Event Management Extension for Joomla!
X-WR-RELCALID:3E26604A-50F4-4449-8B3E-E4F4932D05B5
X-WR-TIMEZONE:Europe/Berlin
BEGIN:VTIMEZONE
TZID:Europe/Berlin
BEGIN:STANDARD
TZNAME:CET
DTSTART:20161030T030000
TZOFFSETFROM:+0200
TZOFFSETTO:+0100
RDATE:20171029T030000
RDATE:20181028T030000
END:STANDARD
BEGIN:DAYLIGHT
TZNAME:CEST
DTSTART:20170326T020000
TZOFFSETFROM:+0100
TZOFFSETTO:+0200
RDATE:20180325T020000
RDATE:20190331T020000
END:DAYLIGHT
END:VTIMEZONE
BEGIN:VEVENT
UID:1f7b122d-3f86-4093-acc5-61ee28965b08
DTSTAMP:20260420T014032Z
CATEGORIES:Allgemein
CLASS:PUBLIC
DESCRIPTION;ALTREP="CID:<FFFF__=0ABBE548DFE235B58f9e8a93d@coffeebean.com>":
 Strauchschnittsammlung im Gemeindegebiet von Percha an den üblichen Sammel
 plätzen.
DTSTART:20171020T220000Z
DTEND:20171021T220000Z
GEO:00;0
LOCATION:
ORGANIZER:
SEQUENCE:1
SUMMARY:Strauchschnittsammlung
TRANSP:OPAQUE
URL:https://prov.oberwielenbach.info/index.php/termine/115-dorfsaeuberung-5
END:VEVENT
END:VCALENDAR
